
BEGIN:VCALENDAR
PRODID:-//Feedo Feed//NONSGML v1.0//EN
VERSION:2.0
CALSCALE:GREGORIAN
METHOD:PUBLISH
X-WR-CALNAME:Fanzone CL EHH - Szeged
X-WR-CALDESC:
X-MS-OLK-FORCEINSPECTOROPEN:TRUE
BEGIN:VEVENT
DTSTAMP:20260420T083150Z
DTSTART:20221214T150000Z
DTEND:20221214T150000Z
TRANSP:TRANSPARENT
UID:20742022-12-14
SUMMARY:Fanzone CL EHH - Szeged
DESCRIPTION:
URL:http://www.taigan.no/index.php/bussturer/fanzone-cl-ehh-szeged?format=html
CATEGORIES:Uncategorized
GEO:
LOCATION:Terningen arena
END:VEVENT
END:VCALENDAR