
BEGIN:VCALENDAR
PRODID:-//Feedo Feed//NONSGML v1.0//EN
VERSION:2.0
CALSCALE:GREGORIAN
METHOD:PUBLISH
X-WR-CALNAME:Halden borte onsdag 3/10
X-WR-CALDESC:Eliteserien Menn\nOnsdag 3. oktober spiller Elverum Håndball Herrer bortekamp mot Halden Topphåndball.\nTaiga'n setter opp buss for alle med hjerte for Elverum Håndball Herrer.\nAvreise fra Terningen Arena kl 14:00. Kampstart kl 18:30.\nPris kun kr 200 for medlemmer / kr 300 for alle andre. \nMinimum 25 stk. Åpen busspåmelding frem til bussavgang :)\nDet blir en stopp underveis, lengden på stoppen kommer an på trafikkflyten nedover. Mulighet for påstigning underveis både ved Myklegaard og Helsfyr/Oslo.\nAlle med hjerte for Elverum Håndball Herrer er hjertelig velkommen til å bli med - vi er #sammenforelverum
X-MS-OLK-FORCEINSPECTOROPEN:TRUE
BEGIN:VEVENT
DTSTAMP:20260421T085229Z
DTSTART:20181003T163000Z
DTEND:20181003T163000Z
TRANSP:TRANSPARENT
UID:842018-10-03
SUMMARY:Halden borte onsdag 3/10
DESCRIPTION:Eliteserien Menn\nOnsdag 3. oktober spiller Elverum Håndball Herrer bortekamp mot Halden Topphåndball.\nTaiga'n setter opp buss for alle med hjerte for Elverum Håndball Herrer.\nAvreise fra Terningen Arena kl 14:00. Kampstart kl 18:30.\nPris kun kr 200 for medlemmer / kr 300 for alle andre. \nMinimum 25 stk. Åpen busspåmelding frem til bussavgang :)\nDet blir en stopp underveis, lengden på stoppen kommer an på trafikkflyten nedover. Mulighet for påstigning underveis både ved Myklegaard og Helsfyr/Oslo.\nAlle med hjerte for Elverum Håndball Herrer er hjertelig velkommen til å bli med - vi er #sammenforelverum
URL:http://www.taigan.no/index.php/bussturer/halden-borte-onsdag-3-10?format=html
CATEGORIES:Bussturer
GEO:59.1292475;11.352803300000005
LOCATION:Remmenhallen
END:VEVENT
END:VCALENDAR